BEGIN:VCALENDAR
VERSION:2.0
PRODID:Events Booking
BEGIN:VEVENT
UID:69ececa8c2576
SUMMARY:Mount Hymettus – Ridge Traverse
DESCRIPTION:BEGIN:VCALENDAR
 VERSION:2.0
 PRODID:-//Wanderlust Outdoor Ac
 tivities & Travel//Hymettus Ridge Traverse//EN
 CALSCALE:GREGORIAN
 BEGI
 N:VEVENT
 UID:ymittos-ridge-traverse-20260208@wanderlust.gr
 DTSTAMP:202
 60125T120000Z
 DTSTART:20260208T071500Z
 DTEND:20260208T140000Z
 SUMMAR
 Y:Mount Hymettus – Ridge Traverse
 DESCRIPTION:On Sunday\, February 8th
 \, we explore Mount Hymettus through a circular hiking route that combines
  natural landscape\, history\, and open horizons\, on one of the most char
 acteristic mountains of Attica.\\n\\nMeeting point: Monastery of Agios Ioa
 nnis Kynigos\\nMeeting time: 09:15\\nRoute length: 8 km\\nRoute level: B\\
 nModerate to good physical condition required.\\n\\nOrganized by Wanderlus
 t Outdoor Activities & Travel.
 LOCATION:Monastery of Agios Ioannis Kynig
 os\, Mount Hymettus\, Attica\, Greece
 END:VEVENT
 END:VCALENDAR
 
LOCATION:Μονή Αγίου Ιωάννου Κυνηγού\, Σήραγγα
  Κολλεγίου\, Αγία Παρασκευή\, Δήμος Αγίας 
 Παρασκευής\, Περιφερειακή Ενότητα Βορεί
 ου Τομέα Αθηνών\, Περιφέρεια Αττικής\, Απ
 οκεντρωμένη Διοίκηση Αττικής\, 150 01\, Ελλά
 δα
DTSTART:20260208T073000Z
DTEND:20260208T123000Z
DTSTAMP:20260124T194759Z
ORGANIZER;CN=Wanderlust Outdoor Activities:MAILTO:info@wanderlustactivities
 .gr
GEO:38.002723;23.836778
X-APPLE-STRUCTURED-LOCATION;VALUE=URI;X-ADDRESS=Μονή Αγίου Ιωά
 ννου Κυνηγού\, Σήραγγα Κολλεγίου\, Αγία Π
 αρασκευή\, Δήμος Αγίας Παρασκευής\, Περιφ
 ερειακή Ενότητα Βορείου Τομέα Αθηνών\, Π
 εριφέρεια Αττικής\, Αποκεντρωμένη Διοίκ
 ηση Αττικής\, 150 01\, Ελλάδα;X-APPLE-RADIUS=72;X-TITLE=Ho
 lly Monastery of St.John Kynegos:38.002723;23.836778
END:VEVENT
END:VCALENDAR