BEGIN:VCALENDAR
VERSION:2.0
PRODID:Events Booking
BEGIN:VEVENT
UID:69e9ee938aac7
SUMMARY:Nemea Wine Experience – Vineyards & Zacharias Winery | Peloponnes
 e Wine Tour
DESCRIPTION:BEGIN:VCALENDAR
 VERSION:2.0
 PRODID:-//Wanderlust Outdoor Ac
 tivities & Travel//Event Calendar//EL
 CALSCALE:GREGORIAN
 METHOD:PUBLIS
 H
 BEGIN:VEVENT
 UID:nemea-zacharias-wine-paths-20260607@wanderlustactiv
 ities.gr
 DTSTAMP:20260417T162500Z
 DTSTART\;TZID=Europe/Athens:20260607
 T094500
 DTEND\;TZID=Europe/Athens:20260607T190000
 SUMMARY:Νεμέα 
 – Αμπελώνες & Οινοποιείο Ζαχαριά
 LOCATION:Ν
 εμέα\, Πελοπόννησος
 DESCRIPTION:Την Κυριακή 7 
 Ιουνίου ταξιδεύουμε στη Νεμέα στο πλαίσ
 ιο του project «Στα Μονοπάτια του Κρασιού» γ
 ια μια ολοκληρωμένη εμπειρία οινοτουρισ
 μού στους αμπελώνες της περιοχής.\\\\n\\\\nΗ 
 εμπειρία περιλαμβάνει επίσκεψη στην Παν
 αγία του Βράχου και στη Μονή Αγίου Αθανα
 σίου\, περιήγηση σε ιστορικό αμπελώνα 60 ε
 τών στην Αρχαία Φλιούντα\, επίσκεψη στο α
 μπελοτόπι Ντουραμάνι με τη σπάνια αρχαί
 α ποικιλία Σκλάβα\, οργανωμένη οινογευσί
 α 5 ετικετών κρασιού και ολοκληρωμένο γε
 ύμα μέσα στον αμπελώνα με κρασιά του κτή
 ματος.\\\\n\\\\nΗ ημέρα ολοκληρώνεται με επί
 σκεψη στο Οινοποιείο Ζαχαριά και γνωριμ
 ία με τη φιλοσοφία του κτήματος.\\\\n\\\\nΜικ
 ρή ομάδα έως 22 συμμετεχόντων.
 STATUS:CONFIRMED

  TRANSP:OPAQUE
 END:VEVENT
 END:VCALENDAR
LOCATION:Κοινότητα Νεμέας\, Δήμος Νεμέας\, Περ
 ιφερειακή Ενότητα Κορινθίας\, Περιφέρει
 α Πελοποννήσου\, Αποκεντρωμένη Διοίκηση 
 Πελοποννήσου\, Δυτικής Ελλάδας και Ιονίο
 υ\, 205 00\, Ελλάδα
DTSTART:20260607T064500Z
DTEND:20260607T160000Z
DTSTAMP:20260417T115458Z
ORGANIZER;CN=Wanderlust Outdoor Activities:MAILTO:info@wanderlustactivities
 .gr
GEO:37.821898;22.659544
X-APPLE-STRUCTURED-LOCATION;VALUE=URI;X-ADDRESS=Κοινότητα Νεμέ
 ας\, Δήμος Νεμέας\, Περιφερειακή Ενότητα 
 Κορινθίας\, Περιφέρεια Πελοποννήσου\, Απ
 οκεντρωμένη Διοίκηση Πελοποννήσου\, Δυτ
 ικής Ελλάδας και Ιονίου\, 205 00\, Ελλάδα;X-APPL
 E-RADIUS=72;X-TITLE=:37.821898;22.659544
END:VEVENT
END:VCALENDAR