BEGIN:VCALENDAR
VERSION:2.0
PRODID:Events Booking
BEGIN:VEVENT
UID:69e9ee22669ec
SUMMARY:Pavliani Hiking | Tzirou Wetland Experience
DESCRIPTION:BEGIN:VCALENDAR
 VERSION:2.0
 PRODID:-//Wanderlust Outdoor Ac
 tivities//Event Calendar//EN
 CALSCALE:GREGORIAN
 BEGIN:VEVENT
 UID:pav
 liani-tzirou-hiking-31052026@wanderlustactivities.gr
 DTSTAMP:20260406T09
 0000Z
 DTSTART:20260531T034000Z
 DTEND:20260531T180000Z
 SUMMARY:Πεζ
 οπορία στην Παύλιανη | Pavliani Hiking - Tzirou Wetland
 
 DESCRIPTION:Την Κυριακή 31/05/2026 πεζοπορούμε στ
 ην Παύλιανη και τον Υδροβιότοπο Τζιρού σ
 ε μια εύκολη και καταπράσινη κυκλική δια
 δρομή με τρεχούμενα νερά\, γεφυράκια και 
 καταρράκτες.\\n\\nOn Sunday 31/05/2026 we explore Pavliani and 
 the Tzirou Wetland through an easy circular hike with flowing water\, wood
 en bridges and beautiful forest scenery.\\n\\nMeeting point: Στάση Μ
 ετρό Αγίου Αντωνίου / Agios Antonios Metro Station at 06:
 40.
 LOCATION:Agios Antonios Metro Station\, Athens
 END:VEVENT
 END:VC
 ALENDAR
DTSTART:20260531T040000Z
DTEND:20260531T183000Z
DTSTAMP:20260406T040657Z
ORGANIZER;CN=Wanderlust Outdoor Activities:MAILTO:info@wanderlustactivities
 .gr
END:VEVENT
END:VCALENDAR