BEGIN:VCALENDAR
VERSION:2.0
PRODID:Events Booking
BEGIN:VEVENT
UID:69e4e7bd9bbbc
SUMMARY:Hiking in Parnitha Mountain
DESCRIPTION:On Sunday 22/12 we will have our last hike for 2024. A beautifu
 l circular hike in the forest of Parnitha starting from Flambouri.
 
 

  
 
 
LOCATION:Φιλαδέλφειας 131\, Αχαρνές 136 72\, Ελλάδ
 α
DTSTART:20241222T070000Z
DTEND:20241222T110000Z
DTSTAMP:20230922T130044Z
ORGANIZER;CN=Wanderlust Outdoor Activities:MAILTO:info@wanderlustactivities
 .gr
GEO:38.161694;23.746778
X-APPLE-STRUCTURED-LOCATION;VALUE=URI;X-ADDRESS=Φιλαδέλφειας 13
 1\, Αχαρνές 136 72\, Ελλάδα;X-APPLE-RADIUS=72;X-TITLE=Flampou
 ri Refuge:38.161694;23.746778
END:VEVENT
END:VCALENDAR