BEGIN:VCALENDAR
VERSION:2.0
PRODID:Events Booking
BEGIN:VEVENT
UID:69e64ca7760f0
SUMMARY:Spring Yoga & Hiking in Schinias
DESCRIPTION:BEGIN:VCALENDAR
 VERSION:2.0
 PRODID:-//Wanderlust Outdoor Ac
 tivities//Calendar Event//EN
 CALSCALE:GREGORIAN
 METHOD:PUBLISH
 BEGIN
 :VEVENT
 UID:spring-hiking-yoga-ymittos-26042026@wanderlustactivities.gr
 
 DTSTAMP:20260406T090000Z
 DTSTART:20260426T070000Z
 DTEND:20260426T113
 000Z
 SUMMARY:Spring Hiking & Yoga on Mount Hymettus | Πεζοπορία
  & Yoga στον Υμηττό
 DESCRIPTION:Spring Hiking & Yoga on Mount 
 Hymettus / Spring Hiking & Yoga στον Υμηττό\\\\n\\\\nA spring we
 llness experience with gentle hiking and guided yoga in nature near Athens
 . / Μια ανοιξιάτικη εμπειρία ευεξίας με ή
 πια πεζοπορία και καθοδηγούμενη πρακτικ
 ή yoga στη φύση\\\, πολύ κοντά στην Αθήνα.\\\\n\
 \\\nDate / Ημερομηνία: Sunday 26 April 2026 / Κυριακή 26 
 Απριλίου 2026\\\\nLocation / Τοποθεσία: Mount Hymettus / 
 Υμηττός\\\\n\\\\nMore info / Περισσότερες πληροφ
 ορίες:\\\\nwww.wanderlustactivities.gr
 LOCATION:Mount Hymettus\, At
 tica\, Greece
 STATUS:CONFIRMED
 TRANSP:OPAQUE
 END:VEVENT
 END:VCALEN
 DAR
DTSTART:20260510T070000Z
DTEND:20260510T110000Z
DTSTAMP:20260420T085949Z
ORGANIZER;CN=Wanderlust Outdoor Activities:MAILTO:info@wanderlustactivities
 .gr
END:VEVENT
END:VCALENDAR