BEGIN:VCALENDAR
VERSION:2.0
PRODID:Events Booking
BEGIN:VEVENT
UID:69e9f01ab76ad
SUMMARY:Trekking With your Dog in Oak Forest Moggostou
DESCRIPTION:On Sunday\, May 24 we invite you to a special Trekking with you
 r Dog activity in the Moggostos Oak Forest in mountainous Corinthia — a 
 hike dedicated to you and your four-legged friend!
LOCATION:κ. Σουλίου\, Σούλι\, Δημοτική Ενότητα 
 Σικυωνίων\, Δήμος Σικυωνίων\, Περιφερεια
 κή Ενότητα Κορινθίας\, Περιφέρεια Πελοπο
 ννήσου\, Αποκεντρωμένη Διοίκηση Πελοπον
 νήσου\, Δυτικής Ελλάδας και Ιονίου\, 200 15\, 
 Ελλάδα
DTSTART:20260524T050000Z
DTEND:20260524T140000Z
DTSTAMP:20260417T042753Z
ORGANIZER;CN=Wanderlust Outdoor Activities:MAILTO:info@wanderlustactivities
 .gr
GEO:37.998329;22.609845
X-APPLE-STRUCTURED-LOCATION;VALUE=URI;X-ADDRESS=κ. Σουλίου\, Σού
 λι\, Δημοτική Ενότητα Σικυωνίων\, Δήμος Σ
 ικυωνίων\, Περιφερειακή Ενότητα Κορινθί
 ας\, Περιφέρεια Πελοποννήσου\, Αποκεντρω
 μένη Διοίκηση Πελοποννήσου\, Δυτικής Ελλ
 άδας και Ιονίου\, 200 15\, Ελλάδα;X-APPLE-RADIUS=72;X-T
 ITLE=Oak forest Moggostou :37.998329;22.609845
END:VEVENT
END:VCALENDAR