BEGIN:VCALENDAR
VERSION:2.0
PRODID:Events Booking
BEGIN:VEVENT
UID:69e9dbbead5ad
SUMMARY:Ελικώνας | Ανάβαση στην κορυφή Παλιο
 βούνα (1730μ) | Wanderlust Peaks Project
DESCRIPTION:BEGIN:VCALENDAR
 VERSION:2.0
 BEGIN:VEVENT
 SUMMARY:Mount El
 ikonas | Paliovouna Peak Ascent (1730m) | Wanderlust Peaks Project
 DTSTA
 RT:20260524T064000
 DTEND:20260524T210000
 LOCATION:Agios Antonios Metro
  Station
 DESCRIPTION:Join Wanderlust Peaks Project for a unique mountain
  hiking experience on Mount Elikonas\, aiming for Paliovouna peak (1730m).
  A route combining alpine scenery\, natural beauty\, and Greek mythology.\
 \n\\nMeeting point: Agios Antonios Metro Station\\nTime: 06:40\\n\\nMore i
 nfo: www.wanderlustactivities.gr
 END:VEVENT
 END:VCALENDAR
DTSTART:20260524T040000Z
DTEND:20260524T180000Z
DTSTAMP:20260327T125628Z
ORGANIZER;CN=Wanderlust Outdoor Activities:MAILTO:info@wanderlustactivities
 .gr
END:VEVENT
END:VCALENDAR