BEGIN:VCALENDAR
VERSION:2.0
PRODID:Events Booking
BEGIN:VEVENT
UID:69e8a3782754f
SUMMARY:Full Moon Hiking στο Ποικίλο όρος 
DESCRIPTION:Το Σάββατο 3/6 λίγο πριν δύσει ο ήλι
 ος θα ξεκινήσουμε την πεζοπορία μας στο 
 Ποικίλο Όρος στην Πετρούπολη για να απολ
 αύσουμε αρχικά το ηλιοβασίλεμα! Στη συνέ
 χεια υπό το φως του Φεγγαριού και συγκεκ
 ριμένα την Πανσέληνο της Φράουλας θα απο
 λαύσουμε την διαδρομή και θα περάσουμε ό
 μορφα!
LOCATION:3M3M+49 Ίλιον\, Ελλάδα
DTSTART:20230603T163000Z
DTEND:20230603T203000Z
DTSTAMP:20230522T191118Z
ORGANIZER;CN=Wanderlust Outdoor Activities:MAILTO:info@wanderlustactivities
 .gr
GEO:38.052804;23.683407
X-APPLE-STRUCTURED-LOCATION;VALUE=URI;X-ADDRESS=3M3M+49 Ίλιον\, Ελλ
 άδα;X-APPLE-RADIUS=72;X-TITLE=Ποικίλο Όρος /Πετρούπο
 λη :38.052804;23.683407
END:VEVENT
END:VCALENDAR