BEGIN:VCALENDAR
VERSION:2.0
PRODID:Events Booking
BEGIN:VEVENT
UID:69e9d9a8c7038
SUMMARY:Περαχώρα – Ηραίο & Φάρος Μελαγκάβι
DESCRIPTION:BEGIN:VCALENDAR
 VERSION:2.0
 PRODID:-//Wanderlust Outdoor Ac
 tivities//EN
 BEGIN:VEVENT
 UID:iraio-melagavi-hiking-03052026@wanderlus
 tactivities.gr
 DTSTAMP:20260331T120000Z
 DTSTART:20260503T060000Z
 DTE
 ND:20260503T170000Z
 SUMMARY:Perachora – Heraion & Melagkavi Lighthouse
  Hiking Experience
 DESCRIPTION:Join us on Sunday 03/05/2026 for a scenic
  coastal hiking experience across the Perachora peninsula. Starting from V
 ouliagmeni Lake\, we follow an easy coastal trail with stunning views over
  the Corinthian Gulf\, leading us to the historic Melagkavi lighthouse and
  the archaeological site of Heraion.\\n\\nThe route combines sea\, nature 
 and history\, making it ideal for beginners and nature lovers.\\n\\nAfter 
 the hike\, there will be an optional stop at a local taverna (vegan and ve
 getarian options available upon request).\\n\\nMeeting Point: Agios Antoni
 os Metro Station\\nStart Time: 09:00\\nEnd Time: 20:00\\n\\nMore info & bo
 okings:\\nhttps://www.wanderlustactivities.gr/en/book-now
 LOCATION:Perac
 hora\, Loutraki\, Greece
 END:VEVENT
 END:VCALENDAR
DTSTART:20260503T040000Z
DTEND:20260503T170000Z
DTSTAMP:20230918T170558Z
ORGANIZER;CN=Wanderlust Outdoor Activities:MAILTO:info@wanderlustactivities
 .gr
END:VEVENT
END:VCALENDAR