BEGIN:VCALENDAR
VERSION:2.0
PRODID:Events Booking
BEGIN:VEVENT
UID:69e4d1adefa8d
SUMMARY:Πεζοπορία στην Πάρνηθα   
DESCRIPTION:
 
 
 
 
 Την Κυριακή 22/12 θα κάνουμε 
 την τελευταία πεζοπορία για το 2024. Μια όμ
 ορφη κυκλική πεζοπορία μέσα στο δάσος τη
 ς Πάρνηθας με αφετηρία την θέση Φλαμπούρ
 ι.
 
 
 
 
 &nbsp\;
 
 
 
 
 
 
 
 
 
 
 
 
 
 
 
 
 
 
 
LOCATION:Φιλαδέλφειας 131\, Αχαρνές 136 72\, Ελλάδ
 α
DTSTART:20241222T070000Z
DTEND:20241222T110000Z
DTSTAMP:20230922T130044Z
ORGANIZER;CN=Wanderlust Outdoor Activities:MAILTO:info@wanderlustactivities
 .gr
GEO:38.161694;23.746778
X-APPLE-STRUCTURED-LOCATION;VALUE=URI;X-ADDRESS=Φιλαδέλφειας 13
 1\, Αχαρνές 136 72\, Ελλάδα;X-APPLE-RADIUS=72;X-TITLE=Κατ
 αφύγιο Φλαμπούρι :38.161694;23.746778
END:VEVENT
END:VCALENDAR