BEGIN:VCALENDAR
VERSION:2.0
PRODID:Events Booking
BEGIN:VEVENT
UID:69e9dbeb644ff
SUMMARY:Αρκουδόρεμα Μαινάλου | Πεζοπορία στη
 ν καρδιά του ελατοδάσους
DESCRIPTION:BEGIN:VCALENDAR
 VERSION:2.0
 PRODID:-//Wanderlust Outdoor Ac
 tivities//Arkoudorema Mainalo Hiking//EN
 BEGIN:VEVENT
 UID:arkoudorema-
 mainalo-14062026@wanderlustactivities.gr
 DTSTAMP:20260401T070000Z
 DTST
 ART:20260614T034000Z
 DTEND:20260614T180000Z
 SUMMARY:Arkoudorema Mainal
 o | Hiking Experience
 DESCRIPTION:Join us on Sunday June 14 for a unique
  hiking experience in Arkoudorema\, Mount Mainalo.\\n\\nThe hike starts an
 d ends at Panagia Arkoudorematos and takes place in a beautiful natural en
 vironment with dense fir forest\, streams and shaded trails.\\n\\nHighligh
 ts:\\n- Fir forest hiking\\n- Walking alongside the Elissonas river\\n- Na
 tural shade and cool environment\\n- Authentic mountain experience in Arca
 dia\\n\\nMeeting Point: Agios Antonios Metro Station\\nMeeting Time: 06:40
  a.m.\\n\\nReservation required via prepayment.\\nMore info & booking: htt
 ps://www.wanderlustactivities.gr/en/book-now
 LOCATION:Mount Mainalo\, Ar
 koudorema\, Arcadia\, Greece
 END:VEVENT
 END:VCALENDAR
DTSTART:20260614T040000Z
DTEND:20260614T180000Z
DTSTAMP:20260330T100742Z
ORGANIZER;CN=Wanderlust Outdoor Activities:MAILTO:info@wanderlustactivities
 .gr
END:VEVENT
END:VCALENDAR