BEGIN:VCALENDAR
VERSION:2.0
PRODID:Events Booking
BEGIN:VEVENT
UID:69e9d9bd9eb05
SUMMARY:Πεζοπορία στον Υμηττό – Κυκλική Δια
 δρομή στο Αισθητικό Δάσος Καισαριανής 
DESCRIPTION: BEGIN:VCALENDAR
 VERSION:2.0
 PRODID:-//Wanderlust Outdoor A
 ctivities & Travel//Event Calendar//EL
 CALSCALE:GREGORIAN
 METHOD:PUBLI
 SH
 BEGIN:VEVENT
 UID:ymittos-kaisariani-loop-20260503@wanderlustactivit
 ies.gr
 DTSTAMP:20260406T090000Z
 DTSTART\;TZID=Europe/Athens:20260503T0
 94000
 DTEND\;TZID=Europe/Athens:20260503T140000
 SUMMARY:Πεζοπορ
 ία στον Υμηττό | Αισθητικό Δάσος Καισαρι
 ανής
 LOCATION:Πυροφυλάκιο Καισαριανής «Δημ
 ήτρης Καραμολέγκος»\, Υμηττός
 DESCRIPTION:Τη
 ν Κυριακή 03/05/2026 πεζοπορούμε στον Υμηττό\
 , σε μια κυκλική διαδρομή στο αισθητικό δ
 άσος Καισαριανής που συνδυάζει φύση\, ισ
 τορία και χαλάρωση λίγα μόλις λεπτά από 
 το κέντρο της Αθήνας.\\n\\n
 Η διαδρομή περ
 ιλαμβάνει στάση στην Καλοπούλα\, ανάβαση
  στο υπόσκαφο εκκλησάκι της Αναλήψεως\, δ
 ιέλευση από βοτανικά σημεία ενδιαφέροντ
 ος\, στάση στον περιβάλλοντα χώρο της Ιερ
 άς Μονής Καισαριανής και πορεία από παλα
 ιοχριστιανικά μνημεία και τον λόφο των Τ
 αξιαρχών.\\n\\n
 Μήκος διαδρομής περίπου 6\,
 5 χλμ. Κυκλική πορεία ήπιας δυσκολίας\, κα
 τάλληλη για αρχάριους με βασική φυσική κ
 ατάσταση.\\n\\n
 Περιλαμβάνονται: συνοδοί 
 πεζοπορίας\, ομαδικό φαρμακείο\, αστική ε
 παγγελματική ευθύνη\, δορυφορική επικοι
 νωνία Iridium\, μπάρα δημητριακών και χυμός N
 aturals.
 END:VEVENT
 END:VCALENDAR
LOCATION:XQ7V+JC Kesariani\, Greece
DTSTART:20260503T070000Z
DTEND:20260503T110000Z
DTSTAMP:20260406T135841Z
ORGANIZER;CN=Wanderlust Outdoor Activities:MAILTO:info@wanderlustactivities
 .gr
GEO:37.964233;23.792698
X-APPLE-STRUCTURED-LOCATION;VALUE=URI;X-ADDRESS=XQ7V+JC Kesariani\, Greece;
 X-APPLE-RADIUS=72;X-TITLE=Πυροφυλάκιο Καισαριανής :3
 7.964233;23.792698
END:VEVENT
END:VCALENDAR