BEGIN:VCALENDAR
VERSION:2.0
PRODID:Events Booking
BEGIN:VEVENT
UID:69eb716d61784
SUMMARY:Training With Your Dog στον Υμηττό | vol.  31
DESCRIPTION:🔶 Το Training with Your Dog για 31η φορά!
 Στο
 ν όμορφο Υμηττό το Σάββατο 02 Μαΐου\, συνε
 χίζεται το μοναδικό μας project θετικής εκπ
 αίδευσης σκύλων στη φύση με ομάδες έως 10 
 θέσεων για προσωπική καθοδήγηση και ουσ
 ιαστική εμπειρία.
LOCATION:XQ7V+JC Kesariani\, Greece
DTSTART:20260502T070000Z
DTEND:20260502T090000Z
DTSTAMP:20260424T062054Z
ORGANIZER;CN=Wanderlust Outdoor Activities:MAILTO:info@wanderlustactivities
 .gr
GEO:37.964233;23.792698
X-APPLE-STRUCTURED-LOCATION;VALUE=URI;X-ADDRESS=XQ7V+JC Kesariani\, Greece;
 X-APPLE-RADIUS=72;X-TITLE=Πυροφυλάκιο Καισαριανής :3
 7.964233;23.792698
END:VEVENT
END:VCALENDAR