BEGIN:VCALENDAR
VERSION:2.0
PRODID:Events Booking
BEGIN:VEVENT
UID:69ea1630c45fa
SUMMARY:Trekking with your Dog – Δρυόδασος Μογγοστού 
DESCRIPTION:Την Κυριακή 24 Μαϊου&nbsp\;σας προσκαλ
 ούμε σε μια ξεχωριστή δραστηριότητα Trekkin
 g with your Dog στο Δρυόδασος Μογγοστού στην ορ
 εινή Κορινθία — μια πεζοπορία αφιερωμέν
 η σε εσάς και τον τετράποδο φίλο σας!
 
LOCATION:κ. Σουλίου\, Σούλι\, Δημοτική Ενότητα 
 Σικυωνίων\, Δήμος Σικυωνίων\, Περιφερεια
 κή Ενότητα Κορινθίας\, Περιφέρεια Πελοπο
 ννήσου\, Αποκεντρωμένη Διοίκηση Πελοπον
 νήσου\, Δυτικής Ελλάδας και Ιονίου\, 200 15\, 
 Ελλάδα
DTSTART:20260524T050000Z
DTEND:20260524T140000Z
DTSTAMP:20260417T042753Z
ORGANIZER;CN=Wanderlust Outdoor Activities:MAILTO:info@wanderlustactivities
 .gr
GEO:37.998329;22.609845
X-APPLE-STRUCTURED-LOCATION;VALUE=URI;X-ADDRESS=κ. Σουλίου\, Σού
 λι\, Δημοτική Ενότητα Σικυωνίων\, Δήμος Σ
 ικυωνίων\, Περιφερειακή Ενότητα Κορινθί
 ας\, Περιφέρεια Πελοποννήσου\, Αποκεντρω
 μένη Διοίκηση Πελοποννήσου\, Δυτικής Ελλ
 άδας και Ιονίου\, 200 15\, Ελλάδα;X-APPLE-RADIUS=72;X-T
 ITLE=Δρυόδασος Μογγοστού :37.998329;22.609845
END:VEVENT
END:VCALENDAR